BEGIN:VCALENDAR
VERSION:2.0
PRODID:-//AWO Stadtkreisverband Frankenthal - ECPv6.3.2//NONSGML v1.0//EN
CALSCALE:GREGORIAN
METHOD:PUBLISH
X-ORIGINAL-URL:https://www.awo-frankenthal.de
X-WR-CALDESC:Veranstaltungen für AWO Stadtkreisverband Frankenthal
REFRESH-INTERVAL;VALUE=DURATION:PT1H
X-Robots-Tag:noindex
X-PUBLISHED-TTL:PT1H
BEGIN:VTIMEZONE
TZID:Europe/Berlin
BEGIN:DAYLIGHT
TZOFFSETFROM:+0100
TZOFFSETTO:+0200
TZNAME:CEST
DTSTART:20260329T010000
END:DAYLIGHT
BEGIN:STANDARD
TZOFFSETFROM:+0200
TZOFFSETTO:+0100
TZNAME:CET
DTSTART:20261025T010000
END:STANDARD
END:VTIMEZONE
BEGIN:VEVENT
DTSTART;TZID=Europe/Berlin:20260911T140000
DTEND;TZID=Europe/Berlin:20260911T140000
DTSTAMP:20260419T171233
CREATED:20260108T083205Z
LAST-MODIFIED:20260326T085809Z
UID:14011-1789135200-1789135200@www.awo-frankenthal.de
SUMMARY:Jubiläumsfeier
DESCRIPTION:Der AWO Stadtkreisverband Frankenthal e.V. feiert Jubiläum
URL:https://www.awo-frankenthal.de/termine/jubilaeumsfeier/
LOCATION:Dathenushaus\, Frankenthal
END:VEVENT
END:VCALENDAR