BEGIN:VCALENDAR
VERSION:2.0
PRODID:-//AWO Stadtkreisverband Frankenthal - ECPv6.3.2//NONSGML v1.0//EN
CALSCALE:GREGORIAN
METHOD:PUBLISH
X-WR-CALNAME:AWO Stadtkreisverband Frankenthal
X-ORIGINAL-URL:https://www.awo-frankenthal.de
X-WR-CALDESC:Veranstaltungen für AWO Stadtkreisverband Frankenthal
REFRESH-INTERVAL;VALUE=DURATION:PT1H
X-Robots-Tag:noindex
X-PUBLISHED-TTL:PT1H
BEGIN:VTIMEZONE
TZID:Europe/Berlin
BEGIN:DAYLIGHT
TZOFFSETFROM:+0100
TZOFFSETTO:+0200
TZNAME:CEST
DTSTART:20260329T010000
END:DAYLIGHT
BEGIN:STANDARD
TZOFFSETFROM:+0200
TZOFFSETTO:+0100
TZNAME:CET
DTSTART:20261025T010000
END:STANDARD
END:VTIMEZONE
BEGIN:VEVENT
DTSTART;TZID=Europe/Berlin:20260506T091500
DTEND;TZID=Europe/Berlin:20260506T100000
DTSTAMP:20260421T121252
CREATED:20251218T080347Z
LAST-MODIFIED:20260416T074308Z
UID:13951-1778058900-1778061600@www.awo-frankenthal.de
SUMMARY:Sitzgymnastik Gruppe 1 am 06.05.26
DESCRIPTION:An jedem Mittwoch Schonende Gymnastik mit Musik zur Förderung der Beweglichkeit und zur Entspannung\, überwiegend im sitzen.
URL:https://www.awo-frankenthal.de/termine/sitzgymnastik-gruppe-1-am-06-05-26/
LOCATION:AWO-Treff Lindenstrasse\, Lindenstrasse\, Frankenthal\, 67227
END:VEVENT
BEGIN:VEVENT
DTSTART;TZID=Europe/Berlin:20260506T101500
DTEND;TZID=Europe/Berlin:20260506T110000
DTSTAMP:20260421T121252
CREATED:20251218T080518Z
LAST-MODIFIED:20251218T080520Z
UID:13953-1778062500-1778065200@www.awo-frankenthal.de
SUMMARY:Sitzgymnastik Gruppe 2 am 06.05.26
DESCRIPTION:An jedem Mittwoch Schonende Gymnastik mit Musik zur Förderung der Beweglichkeit und zur Entspannung\, überwiegend im sitzen.
URL:https://www.awo-frankenthal.de/termine/sitzgymnastik-gruppe-2-am-06-05-26/
LOCATION:AWO-Treff Lindenstrasse\, Lindenstrasse\, Frankenthal\, 67227
END:VEVENT
BEGIN:VEVENT
DTSTART;TZID=Europe/Berlin:20260508T170000
DTEND;TZID=Europe/Berlin:20260508T210000
DTSTAMP:20260421T121252
CREATED:20251218T090253Z
LAST-MODIFIED:20251218T090321Z
UID:13997-1778259600-1778274000@www.awo-frankenthal.de
SUMMARY:Doppelkopf Abend am 08.05.26
DESCRIPTION:Doppelkopf Abend immer einmal im Monat Freitags ab 17 Uhrmit Snacks und GetränkenUnkostenbeitrag für Nichtmitglieder 5 €\, Mitglieder 3€
URL:https://www.awo-frankenthal.de/termine/doppelkopf-abend-am-10-04-26-2/
END:VEVENT
BEGIN:VEVENT
DTSTART;TZID=Europe/Berlin:20260513T091500
DTEND;TZID=Europe/Berlin:20260513T100000
DTSTAMP:20260421T121252
CREATED:20251218T080642Z
LAST-MODIFIED:20260416T074417Z
UID:13955-1778663700-1778666400@www.awo-frankenthal.de
SUMMARY:Sitzgymnastik Gruppe 1 am 13.05.26
DESCRIPTION:An jedem Mittwoch Schonende Gymnastik mit Musik zur Förderung der Beweglichkeit und zur Entspannung\, überwiegend im sitzen.
URL:https://www.awo-frankenthal.de/termine/sitzgymnastik-gruppe-1-am-13-05-26/
LOCATION:AWO-Treff Lindenstrasse\, Lindenstrasse\, Frankenthal\, 67227
END:VEVENT
BEGIN:VEVENT
DTSTART;TZID=Europe/Berlin:20260513T101500
DTEND;TZID=Europe/Berlin:20260513T110000
DTSTAMP:20260421T121252
CREATED:20251218T080739Z
LAST-MODIFIED:20251218T080741Z
UID:13957-1778667300-1778670000@www.awo-frankenthal.de
SUMMARY:Sitzgymnastik Gruppe 2 am 13.05.26
DESCRIPTION:An jedem Mittwoch Schonende Gymnastik mit Musik zur Förderung der Beweglichkeit und zur Entspannung\, überwiegend im sitzen.
URL:https://www.awo-frankenthal.de/termine/sitzgymnastik-gruppe-2-am-13-05-26/
LOCATION:AWO-Treff Lindenstrasse\, Lindenstrasse\, Frankenthal\, 67227
END:VEVENT
BEGIN:VEVENT
DTSTART;TZID=Europe/Berlin:20260519T140000
DTEND;TZID=Europe/Berlin:20260519T160000
DTSTAMP:20260421T121252
CREATED:20251218T090028Z
LAST-MODIFIED:20251218T090030Z
UID:13993-1779199200-1779206400@www.awo-frankenthal.de
SUMMARY:Spiele - Nachmittag und Handarbeits - Treff am 19.05.2026
DESCRIPTION:Gemeinsam können wir in geselliger Runde stricken\, häkeln\, sticken oder auch Spiele wie Rummy-Cup oder Karten spielen. Auch Anfänger sind herzlich willkommen.an jedem 3. Dienstag im Monat ab 14 Uhr im AWO-TreffLindenstrasse/Ecke Schmiedgasse
URL:https://www.awo-frankenthal.de/termine/spiele-nachmittag-und-handarbeits-treff-am-19-05-2026/
END:VEVENT
BEGIN:VEVENT
DTSTART;TZID=Europe/Berlin:20260520T091500
DTEND;TZID=Europe/Berlin:20260520T100000
DTSTAMP:20260421T121252
CREATED:20251218T081002Z
LAST-MODIFIED:20260416T074518Z
UID:13961-1779268500-1779271200@www.awo-frankenthal.de
SUMMARY:Sitzgymnastik Gruppe 1 am 20.05.26
DESCRIPTION:An jedem Mittwoch Schonende Gymnastik mit Musik zur Förderung der Beweglichkeit und zur Entspannung\, überwiegend im sitzen.
URL:https://www.awo-frankenthal.de/termine/sitzgymnastik-gruppe-1-am-20-05-26/
LOCATION:AWO-Treff Lindenstrasse\, Lindenstrasse\, Frankenthal\, 67227
END:VEVENT
BEGIN:VEVENT
DTSTART;TZID=Europe/Berlin:20260520T101500
DTEND;TZID=Europe/Berlin:20260520T110000
DTSTAMP:20260421T121252
CREATED:20251218T081043Z
LAST-MODIFIED:20251218T081045Z
UID:13963-1779272100-1779274800@www.awo-frankenthal.de
SUMMARY:Sitzgymnastik Gruppe 2 am 20.05.26
DESCRIPTION:An jedem Mittwoch Schonende Gymnastik mit Musik zur Förderung der Beweglichkeit und zur Entspannung\, überwiegend im sitzen.
URL:https://www.awo-frankenthal.de/termine/sitzgymnastik-gruppe-2-am-20-05-26/
LOCATION:AWO-Treff Lindenstrasse\, Lindenstrasse\, Frankenthal\, 67227
END:VEVENT
BEGIN:VEVENT
DTSTART;TZID=Europe/Berlin:20260527T091500
DTEND;TZID=Europe/Berlin:20260527T100000
DTSTAMP:20260421T121252
CREATED:20251218T084054Z
LAST-MODIFIED:20260416T074710Z
UID:13971-1779873300-1779876000@www.awo-frankenthal.de
SUMMARY:Sitzgymnastik Gruppe 1 am 27.05.26
DESCRIPTION:An jedem Mittwoch Schonende Gymnastik mit Musik zur Förderung der Beweglichkeit und zur Entspannung\, überwiegend im sitzen.
URL:https://www.awo-frankenthal.de/termine/sitzgymnastik-gruppe-1-am-27-05-26/
LOCATION:AWO-Treff Lindenstrasse\, Lindenstrasse\, Frankenthal\, 67227
END:VEVENT
BEGIN:VEVENT
DTSTART;TZID=Europe/Berlin:20260527T101500
DTEND;TZID=Europe/Berlin:20260527T110000
DTSTAMP:20260421T121252
CREATED:20251218T084147Z
LAST-MODIFIED:20251218T084152Z
UID:13973-1779876900-1779879600@www.awo-frankenthal.de
SUMMARY:Sitzgymnastik Gruppe 2 am 27.05.26
DESCRIPTION:An jedem Mittwoch Schonende Gymnastik mit Musik zur Förderung der Beweglichkeit und zur Entspannung\, überwiegend im sitzen.
URL:https://www.awo-frankenthal.de/termine/sitzgymnastik-gruppe-2-am-27-05-26/
LOCATION:AWO-Treff Lindenstrasse\, Lindenstrasse\, Frankenthal\, 67227
END:VEVENT
END:VCALENDAR