BEGIN:VCALENDAR
VERSION:2.0
PRODID:-//AWO Stadtkreisverband Frankenthal - ECPv6.3.2//NONSGML v1.0//EN
CALSCALE:GREGORIAN
METHOD:PUBLISH
X-WR-CALNAME:AWO Stadtkreisverband Frankenthal
X-ORIGINAL-URL:https://www.awo-frankenthal.de
X-WR-CALDESC:Veranstaltungen für AWO Stadtkreisverband Frankenthal
REFRESH-INTERVAL;VALUE=DURATION:PT1H
X-Robots-Tag:noindex
X-PUBLISHED-TTL:PT1H
BEGIN:VTIMEZONE
TZID:Europe/Berlin
BEGIN:DAYLIGHT
TZOFFSETFROM:+0100
TZOFFSETTO:+0200
TZNAME:CEST
DTSTART:20260329T010000
END:DAYLIGHT
BEGIN:STANDARD
TZOFFSETFROM:+0200
TZOFFSETTO:+0100
TZNAME:CET
DTSTART:20261025T010000
END:STANDARD
END:VTIMEZONE
BEGIN:VEVENT
DTSTART;TZID=Europe/Berlin:20260701T091500
DTEND;TZID=Europe/Berlin:20260701T100000
DTSTAMP:20260419T141300
CREATED:20251218T085614Z
LAST-MODIFIED:20260416T075229Z
UID:13991-1782897300-1782900000@www.awo-frankenthal.de
SUMMARY:Sitzgymnastik Gruppe 1 am 01.07.26
DESCRIPTION:An jedem Mittwoch Schonende Gymnastik mit Musik zur Förderung der Beweglichkeit und zur Entspannung\, überwiegend im sitzen.
URL:https://www.awo-frankenthal.de/termine/sitzgymnastik-gruppe-1-am-01-07-26/
LOCATION:AWO-Treff Lindenstrasse\, Lindenstrasse\, Frankenthal\, 67227
END:VEVENT
BEGIN:VEVENT
DTSTART;TZID=Europe/Berlin:20260701T101500
DTEND;TZID=Europe/Berlin:20260701T110000
DTSTAMP:20260419T141300
CREATED:20260205T092711Z
LAST-MODIFIED:20260205T092714Z
UID:14040-1782900900-1782903600@www.awo-frankenthal.de
SUMMARY:Sitzgymnastik Gruppe 2 am 01.07.26
DESCRIPTION:An jedem Mittwoch Schonende Gymnastik mit Musik zur Förderung der Beweglichkeit und zur Entspannung\, überwiegend im sitzen.
URL:https://www.awo-frankenthal.de/termine/sitzgymnastik-gruppe-2-am-01-07-26/
LOCATION:AWO-Treff Lindenstrasse\, Lindenstrasse\, Frankenthal\, 67227
END:VEVENT
END:VCALENDAR