BEGIN:VCALENDAR
VERSION:2.0
PRODID:-//AWO Stadtkreisverband Frankenthal - ECPv6.3.2//NONSGML v1.0//EN
CALSCALE:GREGORIAN
METHOD:PUBLISH
X-ORIGINAL-URL:https://www.awo-frankenthal.de
X-WR-CALDESC:Veranstaltungen für AWO Stadtkreisverband Frankenthal
REFRESH-INTERVAL;VALUE=DURATION:PT1H
X-Robots-Tag:noindex
X-PUBLISHED-TTL:PT1H
BEGIN:VTIMEZONE
TZID:Europe/Berlin
BEGIN:DAYLIGHT
TZOFFSETFROM:+0100
TZOFFSETTO:+0200
TZNAME:CEST
DTSTART:20260329T010000
END:DAYLIGHT
BEGIN:STANDARD
TZOFFSETFROM:+0200
TZOFFSETTO:+0100
TZNAME:CET
DTSTART:20261025T010000
END:STANDARD
END:VTIMEZONE
BEGIN:VEVENT
DTSTART;TZID=Europe/Berlin:20260618T160000
DTEND;TZID=Europe/Berlin:20260618T180000
DTSTAMP:20260419T142051
CREATED:20260312T081246Z
LAST-MODIFIED:20260312T081250Z
UID:14072-1781798400-1781805600@www.awo-frankenthal.de
SUMMARY:Singen für die Seele
DESCRIPTION:Nach unseren Treffen zum  „weihnachtlichen Singen“ und „frühlingshaften Singen“ geht es weiter mit „Singen für die Seel“ mit Christel Ewald.Jeder ist willkommen.
URL:https://www.awo-frankenthal.de/termine/singen-fuer-die-seele/
LOCATION:AWO-Treff Lindenstrasse\, Lindenstrasse\, Frankenthal\, 67227
END:VEVENT
END:VCALENDAR